BEGIN:VCALENDAR
VERSION:2.0
PRODID:-//Bella Moto Imports - ECPv6.8.3//NONSGML v1.0//EN
CALSCALE:GREGORIAN
METHOD:PUBLISH
X-WR-CALNAME:Bella Moto Imports
X-ORIGINAL-URL:https://www.bellamotoimports.com
X-WR-CALDESC:Events for Bella Moto Imports
REFRESH-INTERVAL;VALUE=DURATION:PT1H
X-Robots-Tag:noindex
X-PUBLISHED-TTL:PT1H
BEGIN:VTIMEZONE
TZID:America/Chicago
BEGIN:DAYLIGHT
TZOFFSETFROM:-0600
TZOFFSETTO:-0500
TZNAME:CDT
DTSTART:20230312T080000
END:DAYLIGHT
BEGIN:STANDARD
TZOFFSETFROM:-0500
TZOFFSETTO:-0600
TZNAME:CST
DTSTART:20231105T070000
END:STANDARD
END:VTIMEZONE
BEGIN:VEVENT
DTSTART;VALUE=DATE:20230907
DTEND;VALUE=DATE:20230911
DTSTAMP:20260425T095712
CREATED:20230504T133632Z
LAST-MODIFIED:20230505T212221Z
UID:142-1694044800-1694390399@www.bellamotoimports.com
SUMMARY:The Moto Guzzi Factory Open House 2023
DESCRIPTION:A gathering of Moto Guzzi enthusiasts and motorcycle enthusiasts in general to celebrate the history\, culture\, and technology of Moto Guzzi motorcycles. The event will feature factory tours\, exhibitions\, displays of classic and modern Moto Guzzi motorcycles\, and opportunities to meet and interact with fellow enthusiasts and industry professionals.
URL:https://www.bellamotoimports.com/events/the-moto-guzzi-factory-open-house-2023/
LOCATION:Mandello Del Lario\, Mandello Del Lario\, Lecco\, 23826\, Italy
CATEGORIES:Events
ATTACH;FMTTYPE=image/jpeg:https://www.bellamotoimports.com/wp-content/uploads/2023/05/bellamotoimports-events-2.jpg
END:VEVENT
END:VCALENDAR